BEGIN:VCALENDAR
VERSION:2.0
PRODID:-//ESI Group USA - ECPv6.15.20//NONSGML v1.0//EN
CALSCALE:GREGORIAN
METHOD:PUBLISH
X-WR-CALNAME:ESI Group USA
X-ORIGINAL-URL:https://esigroupusa.com
X-WR-CALDESC:Events for ESI Group USA
REFRESH-INTERVAL;VALUE=DURATION:PT1H
X-Robots-Tag:noindex
X-PUBLISHED-TTL:PT1H
BEGIN:VTIMEZONE
TZID:America/Chicago
BEGIN:DAYLIGHT
TZOFFSETFROM:-0600
TZOFFSETTO:-0500
TZNAME:CDT
DTSTART:20240310T080000
END:DAYLIGHT
BEGIN:STANDARD
TZOFFSETFROM:-0500
TZOFFSETTO:-0600
TZNAME:CST
DTSTART:20241103T070000
END:STANDARD
BEGIN:DAYLIGHT
TZOFFSETFROM:-0600
TZOFFSETTO:-0500
TZNAME:CDT
DTSTART:20250309T080000
END:DAYLIGHT
BEGIN:STANDARD
TZOFFSETFROM:-0500
TZOFFSETTO:-0600
TZNAME:CST
DTSTART:20251102T070000
END:STANDARD
BEGIN:DAYLIGHT
TZOFFSETFROM:-0600
TZOFFSETTO:-0500
TZNAME:CDT
DTSTART:20260308T080000
END:DAYLIGHT
BEGIN:STANDARD
TZOFFSETFROM:-0500
TZOFFSETTO:-0600
TZNAME:CST
DTSTART:20261101T070000
END:STANDARD
END:VTIMEZONE
BEGIN:VEVENT
DTSTART;TZID=America/Chicago:20250724T130000
DTEND;TZID=America/Chicago:20250726T163000
DTSTAMP:20260419T213458
CREATED:20250618T122523Z
LAST-MODIFIED:20250618T122528Z
UID:13073-1753362000-1753547400@esigroupusa.com
SUMMARY:AAMP's 86th Convention of Meat Processors 2025
DESCRIPTION:
URL:https://esigroupusa.com/event/aamps-86th-convention-of-meat-processors-2025/
LOCATION:Kansas City Convention Center 301 W 13th\, St. 100 Kansas City\, MO 64105
CATEGORIES:Tradeshow
ATTACH;FMTTYPE=image/jpeg:https://esigroupusa.com/wp-content/uploads/2025/06/ESI-10_08-Jones-Dairy-20.jpg
END:VEVENT
END:VCALENDAR