BEGIN:VCALENDAR
VERSION:2.0
PRODID:-//ESI Group USA - ECPv6.15.20//NONSGML v1.0//EN
CALSCALE:GREGORIAN
METHOD:PUBLISH
X-ORIGINAL-URL:https://esigroupusa.com
X-WR-CALDESC:Events for ESI Group USA
REFRESH-INTERVAL;VALUE=DURATION:PT1H
X-Robots-Tag:noindex
X-PUBLISHED-TTL:PT1H
BEGIN:VTIMEZONE
TZID:America/Chicago
BEGIN:DAYLIGHT
TZOFFSETFROM:-0600
TZOFFSETTO:-0500
TZNAME:CDT
DTSTART:20250309T080000
END:DAYLIGHT
BEGIN:STANDARD
TZOFFSETFROM:-0500
TZOFFSETTO:-0600
TZNAME:CST
DTSTART:20251102T070000
END:STANDARD
BEGIN:DAYLIGHT
TZOFFSETFROM:-0600
TZOFFSETTO:-0500
TZNAME:CDT
DTSTART:20260308T080000
END:DAYLIGHT
BEGIN:STANDARD
TZOFFSETFROM:-0500
TZOFFSETTO:-0600
TZNAME:CST
DTSTART:20261101T070000
END:STANDARD
BEGIN:DAYLIGHT
TZOFFSETFROM:-0600
TZOFFSETTO:-0500
TZNAME:CDT
DTSTART:20270314T080000
END:DAYLIGHT
BEGIN:STANDARD
TZOFFSETFROM:-0500
TZOFFSETTO:-0600
TZNAME:CST
DTSTART:20271107T070000
END:STANDARD
END:VTIMEZONE
BEGIN:VEVENT
DTSTART;TZID=America/Chicago:20260126T000000
DTEND;TZID=America/Chicago:20260128T235959
DTSTAMP:20260419T005507
CREATED:20260126T174230Z
LAST-MODIFIED:20260128T193909Z
UID:13392-1769385600-1769644799@esigroupusa.com
SUMMARY:NPFDA Conference & Showcase 2026
DESCRIPTION:Contact Us for an appointment.
URL:https://esigroupusa.com/event/2026-npfda-annual-convention-and-showcase-atlanta/
LOCATION:Hyatt Regency Atlanta NE\, 265 Peachtree Street NE\, Atlanta\, Georgia\, 30303\, United States
CATEGORIES:Tradeshow
ATTACH;FMTTYPE=image/png:https://esigroupusa.com/wp-content/uploads/2026/01/NPFDA-Conference-Sponsor_1000x395.png
END:VEVENT
BEGIN:VEVENT
DTSTART;VALUE=DATE:20260127
DTEND;VALUE=DATE:20260130
DTSTAMP:20260419T005507
CREATED:20260127T172716Z
LAST-MODIFIED:20260129T163237Z
UID:13713-1769472000-1769731199@esigroupusa.com
SUMMARY:IPPE 2026
DESCRIPTION:
URL:https://esigroupusa.com/event/ippe-2026-atlanta-ga/
LOCATION:Georgia World Congress Center\, 285 Andrew Young International Blvd NW\, Atlanta\, Georgia\, 30313
CATEGORIES:Tradeshow
ATTACH;FMTTYPE=image/png:https://esigroupusa.com/wp-content/uploads/2026/01/IPPE-logo_900x472.png
END:VEVENT
END:VCALENDAR