BEGIN:VCALENDAR
VERSION:2.0
PRODID:-//ESI Group USA - ECPv6.15.20//NONSGML v1.0//EN
CALSCALE:GREGORIAN
METHOD:PUBLISH
X-WR-CALNAME:ESI Group USA
X-ORIGINAL-URL:https://esigroupusa.com
X-WR-CALDESC:Events for ESI Group USA
REFRESH-INTERVAL;VALUE=DURATION:PT1H
X-Robots-Tag:noindex
X-PUBLISHED-TTL:PT1H
BEGIN:VTIMEZONE
TZID:America/Chicago
BEGIN:DAYLIGHT
TZOFFSETFROM:-0600
TZOFFSETTO:-0500
TZNAME:CDT
DTSTART:20250309T080000
END:DAYLIGHT
BEGIN:STANDARD
TZOFFSETFROM:-0500
TZOFFSETTO:-0600
TZNAME:CST
DTSTART:20251102T070000
END:STANDARD
BEGIN:DAYLIGHT
TZOFFSETFROM:-0600
TZOFFSETTO:-0500
TZNAME:CDT
DTSTART:20260308T080000
END:DAYLIGHT
BEGIN:STANDARD
TZOFFSETFROM:-0500
TZOFFSETTO:-0600
TZNAME:CST
DTSTART:20261101T070000
END:STANDARD
BEGIN:DAYLIGHT
TZOFFSETFROM:-0600
TZOFFSETTO:-0500
TZNAME:CDT
DTSTART:20270314T080000
END:DAYLIGHT
BEGIN:STANDARD
TZOFFSETFROM:-0500
TZOFFSETTO:-0600
TZNAME:CST
DTSTART:20271107T070000
END:STANDARD
END:VTIMEZONE
BEGIN:VEVENT
DTSTART;TZID=America/Chicago:20261005T103000
DTEND;TZID=America/Chicago:20261007T163000
DTSTAMP:20260419T170416
CREATED:20260128T152023Z
LAST-MODIFIED:20260128T212241Z
UID:13589-1791196200-1791390600@esigroupusa.com
SUMMARY:LogiPharma USA 2026
DESCRIPTION:Booth: TBA
URL:https://esigroupusa.com/event/logipharma-usa-2026/
LOCATION:Sheraton Boston Hotel\, 39 Dalton Street\, Boston\, Massachusetts\, 02199
CATEGORIES:Tradeshow
ATTACH;FMTTYPE=image/png:https://esigroupusa.com/wp-content/uploads/2026/01/Logipharma-2026-banner-1.png
END:VEVENT
END:VCALENDAR