BEGIN:VCALENDAR
VERSION:2.0
PRODID:-//ESI Group USA - ECPv6.15.20//NONSGML v1.0//EN
CALSCALE:GREGORIAN
METHOD:PUBLISH
X-WR-CALNAME:ESI Group USA
X-ORIGINAL-URL:https://esigroupusa.com
X-WR-CALDESC:Events for ESI Group USA
REFRESH-INTERVAL;VALUE=DURATION:PT1H
X-Robots-Tag:noindex
X-PUBLISHED-TTL:PT1H
BEGIN:VTIMEZONE
TZID:America/Chicago
BEGIN:DAYLIGHT
TZOFFSETFROM:-0600
TZOFFSETTO:-0500
TZNAME:CDT
DTSTART:20250309T080000
END:DAYLIGHT
BEGIN:STANDARD
TZOFFSETFROM:-0500
TZOFFSETTO:-0600
TZNAME:CST
DTSTART:20251102T070000
END:STANDARD
BEGIN:DAYLIGHT
TZOFFSETFROM:-0600
TZOFFSETTO:-0500
TZNAME:CDT
DTSTART:20260308T080000
END:DAYLIGHT
BEGIN:STANDARD
TZOFFSETFROM:-0500
TZOFFSETTO:-0600
TZNAME:CST
DTSTART:20261101T070000
END:STANDARD
BEGIN:DAYLIGHT
TZOFFSETFROM:-0600
TZOFFSETTO:-0500
TZNAME:CDT
DTSTART:20270314T080000
END:DAYLIGHT
BEGIN:STANDARD
TZOFFSETFROM:-0500
TZOFFSETTO:-0600
TZNAME:CST
DTSTART:20271107T070000
END:STANDARD
END:VTIMEZONE
BEGIN:VEVENT
DTSTART;TZID=America/Chicago:20261116T000000
DTEND;TZID=America/Chicago:20261118T235959
DTSTAMP:20260419T114534
CREATED:20260128T160410Z
LAST-MODIFIED:20260128T193727Z
UID:13604-1794787200-1795046399@esigroupusa.com
SUMMARY:UniPro Fall Conference 2026
DESCRIPTION:UniPro Foodservice\, Inc. is the leading foodservice distribution network in the United States\, comprisingmore than 450 companies\, each marketing the products and services provided by UniPro Foodservice.UniPro today is a combination of 15 former groups that have merged and come together over the yearsproviding unified strength and independent solutions to all our Members and partners.
URL:https://esigroupusa.com/event/unipro-2026-fall-conference/
LOCATION:Kay Bailey Hutchinson Convention Center Dallas\, 650 Griffin Street\, Dallas\, Texas\, 75202
CATEGORIES:Tradeshow
ATTACH;FMTTYPE=image/jpeg:https://esigroupusa.com/wp-content/uploads/2022/11/Sygma-Warehouse-Exterior-04-scaled-e1669055974816.jpg
END:VEVENT
END:VCALENDAR