BEGIN:VCALENDAR
VERSION:2.0
PRODID:-//ESI Group USA - ECPv6.15.20//NONSGML v1.0//EN
CALSCALE:GREGORIAN
METHOD:PUBLISH
X-WR-CALNAME:ESI Group USA
X-ORIGINAL-URL:https://esigroupusa.com
X-WR-CALDESC:Events for ESI Group USA
REFRESH-INTERVAL;VALUE=DURATION:PT1H
X-Robots-Tag:noindex
X-PUBLISHED-TTL:PT1H
BEGIN:VTIMEZONE
TZID:America/Chicago
BEGIN:DAYLIGHT
TZOFFSETFROM:-0600
TZOFFSETTO:-0500
TZNAME:CDT
DTSTART:20240310T080000
END:DAYLIGHT
BEGIN:STANDARD
TZOFFSETFROM:-0500
TZOFFSETTO:-0600
TZNAME:CST
DTSTART:20241103T070000
END:STANDARD
BEGIN:DAYLIGHT
TZOFFSETFROM:-0600
TZOFFSETTO:-0500
TZNAME:CDT
DTSTART:20250309T080000
END:DAYLIGHT
BEGIN:STANDARD
TZOFFSETFROM:-0500
TZOFFSETTO:-0600
TZNAME:CST
DTSTART:20251102T070000
END:STANDARD
BEGIN:DAYLIGHT
TZOFFSETFROM:-0600
TZOFFSETTO:-0500
TZNAME:CDT
DTSTART:20260308T080000
END:DAYLIGHT
BEGIN:STANDARD
TZOFFSETFROM:-0500
TZOFFSETTO:-0600
TZNAME:CST
DTSTART:20261101T070000
END:STANDARD
END:VTIMEZONE
BEGIN:VEVENT
DTSTART;TZID=America/Chicago:20250928T090000
DTEND;TZID=America/Chicago:20250930T160000
DTSTAMP:20260419T154851
CREATED:20250620T114317Z
LAST-MODIFIED:20250825T145426Z
UID:13084-1759050000-1759248000@esigroupusa.com
SUMMARY:IFDA Solutions Conference 2025
DESCRIPTION:Booth 334
URL:https://esigroupusa.com/event/ifda-solutions-conference-2025/
LOCATION:Great Columbus Convention Center\, 400 N High Street\, Columbus\, Ohio\, 43215\, United States
CATEGORIES:Tradeshow
ATTACH;FMTTYPE=image/png:https://esigroupusa.com/wp-content/uploads/2025/06/Aerial-3-With-Description-Text-2025_0115_ESIGroupUSA_Fontanesi_Drone_0018-1.png
END:VEVENT
BEGIN:VEVENT
DTSTART;TZID=America/Chicago:20250929T090000
DTEND;TZID=America/Chicago:20251001T170000
DTSTAMP:20260419T154851
CREATED:20250825T122935Z
LAST-MODIFIED:20250825T151119Z
UID:13240-1759136400-1759338000@esigroupusa.com
SUMMARY:Pack Expo 2025
DESCRIPTION:Booth N-7034 – Processing Zone North Hall
URL:https://esigroupusa.com/event/pack-expo-2025/
LOCATION:Las Vegas Convention Center\, 3150 Paradise Road\, Las Vegas\, Nevada\, 89109\, United States
CATEGORIES:Tradeshow
ATTACH;FMTTYPE=image/png:https://esigroupusa.com/wp-content/uploads/2025/08/Walmart-Meat-Plant-with-Text-Description-DJI_20250708152951_0002_V.png
END:VEVENT
BEGIN:VEVENT
DTSTART;TZID=America/Chicago:20250930T103000
DTEND;TZID=America/Chicago:20251001T163000
DTSTAMP:20260419T154851
CREATED:20250825T132651Z
LAST-MODIFIED:20250825T144537Z
UID:13246-1759228200-1759336200@esigroupusa.com
SUMMARY:LogiPharma 2025
DESCRIPTION:Booth 606
URL:https://esigroupusa.com/event/logipharma-2025/
LOCATION:Sheraton Boston Hotel\, 39 Dalton Street\, Boston\, Massachusetts\, 02199\, United Kingdom
CATEGORIES:Tradeshow
ATTACH;FMTTYPE=image/png:https://esigroupusa.com/wp-content/uploads/2025/08/Grifols-Exterior-with-Description-Text.png
END:VEVENT
END:VCALENDAR